BEGIN:VCALENDAR
VERSION:2.0
PRODID:icalendar-ruby
CALSCALE:GREGORIAN
METHOD:PUBLISH
BEGIN:VEVENT
DTSTAMP:20260421T094935Z
UID:6-295161@cvbcvictoriatx.org
DTSTART:20260426T144500Z
DTEND:20260426T154500Z
CLASS:PUBLIC
CREATED:20260226T215856
DESCRIPTION:Sunday Bible Study\nWatch Sunday School online.\n\nClick on the
  Facebook icon at the bottom of this page.\nA new Tab will appear with the
  church Facebook page.\nOn the church Facebook page\, click on the "More" 
 dropdown.\nSelect "Live".\n
LAST-MODIFIED:20260226T215856
LOCATION:
SUMMARY:Sunday Bible Study
URL;VALUE=URI:https://www.cvbcvictoriatx.org/events/sunday-bible-study/2026
 -04-26
END:VEVENT
END:VCALENDAR
