BEGIN:VCALENDAR
VERSION:2.0
PRODID:icalendar-ruby
CALSCALE:GREGORIAN
METHOD:PUBLISH
BEGIN:VEVENT
DTSTAMP:20260421T165258Z
UID:7-295105@cvbcvictoriatx.org
DTSTART:20260524T230000Z
DTEND:20260525T000000Z
CLASS:PUBLIC
CREATED:20260224T223148
DESCRIPTION:Come join us in praying for others as well as a wonderful inter
 active Bible discussion. It is a relaxed environment where your questions 
 and comments are welcomed and encouraged. Enjoy growing in Christ-centered
  fellowship.
LAST-MODIFIED:20260224T223148
LOCATION:
SUMMARY:Sunday Evening Service 
URL;VALUE=URI:https://www.cvbcvictoriatx.org/events/sunday-evening-service/
 2026-05-24
END:VEVENT
END:VCALENDAR
