BEGIN:VCALENDAR
VERSION:2.0
PRODID:icalendar-ruby
CALSCALE:GREGORIAN
METHOD:PUBLISH
BEGIN:VEVENT
DTSTAMP:20260421T202117Z
UID:7-295108@cvbcvictoriatx.org
DTSTART:20260614T230000Z
DTEND:20260615T000000Z
CLASS:PUBLIC
CREATED:20260224T223148
DESCRIPTION:Come join us in praying for others as well as a wonderful inter
 active Bible discussion. It is a relaxed environment where your questions 
 and comments are welcomed and encouraged. Enjoy growing in Christ-centered
  fellowship.
LAST-MODIFIED:20260224T223148
LOCATION:
SUMMARY:Sunday Evening Service 
URL;VALUE=URI:https://www.cvbcvictoriatx.org/events/sunday-evening-service/
 2026-06-14
END:VEVENT
END:VCALENDAR
