BEGIN:VCALENDAR
VERSION:2.0
PRODID:icalendar-ruby
CALSCALE:GREGORIAN
METHOD:PUBLISH
BEGIN:VEVENT
DTSTAMP:20260422T014931Z
UID:5-295234@cvbcvictoriatx.org
DTSTART:20260712T160000Z
DTEND:20260712T170000Z
CLASS:PUBLIC
CREATED:20260226T220150
DESCRIPTION:Watch Sunday morning worship online.\n\nClick on the Facebook i
 con at the bottom of this page.\nA new Tab will appear with the church Fac
 ebook page.\nOn the church Facebook page\, click on the "More" dropdown.\n
 Select "Live".\n
LAST-MODIFIED:20260226T220150
LOCATION:
SUMMARY:Sunday Worship
URL;VALUE=URI:https://www.cvbcvictoriatx.org/events/sunday-worship/2026-07-
 12
END:VEVENT
END:VCALENDAR
