BEGIN:VCALENDAR
VERSION:2.0
PRODID:icalendar-ruby
CALSCALE:GREGORIAN
METHOD:PUBLISH
BEGIN:VEVENT
DTSTAMP:20260421T082113Z
UID:8-295284@cvbcvictoriatx.org
DTSTART:20260415T230000Z
DTEND:20260416T000000Z
CLASS:PUBLIC
CREATED:20260303T111217
DESCRIPTION:Do you long for connection with geniune God-fearing people who 
 truly care about you and others?\nAre you faced with mid-week life challen
 ges?\nOur Wednesday service begins with prayer\, moves into a short devoti
 onal\, and then enters into a small group discussion. Come be refreshed an
 d your spirit renewed with Christian fellowship. We look forward to seeing
  you next Wednesday.\n*On the Wednesday following the first Sunday of the 
 month we have our regular scheduled business meeting for members instead o
 f a Bible Study.
LAST-MODIFIED:20260303T111217
LOCATION:
SUMMARY:Wednesday Evening Service
URL;VALUE=URI:https://www.cvbcvictoriatx.org/events/wednesday-evening-servi
 ce/2026-04-15
END:VEVENT
END:VCALENDAR
